BEGIN:VCALENDAR
VERSION:2.0
PRODID:-//BrahmaKumaris Faridabad - ECPv4.9.3.2//NONSGML v1.0//EN
CALSCALE:GREGORIAN
METHOD:PUBLISH
X-WR-CALNAME:BrahmaKumaris Faridabad
X-ORIGINAL-URL:https://faridabad.bk.ooo
X-WR-CALDESC:Events for BrahmaKumaris Faridabad
BEGIN:VEVENT
DTSTART;TZID=UTC+0:20180207T060000
DTEND;TZID=UTC+0:20180207T080000
DTSTAMP:20260422T045303
CREATED:20180205T050510Z
LAST-MODIFIED:20180206T051522Z
UID:489-1517983200-1517990400@faridabad.bk.ooo
SUMMARY:Shivratri Celebration
DESCRIPTION:Program \nMorning Class \nOn the Ocassion of MahaShivratri\, all Bk brothers and sisters are cordially invited to the morning class program. The details are mentioned below. \n
URL:https://faridabad.bk.ooo/event/shivratri-celebration/
LOCATION:Sector 23\, House No. MCF 2718\, Gali No. 24\, Block E\, Sanjay Colony\,\, Faridabad\, Haryana\, India
END:VEVENT
END:VCALENDAR