BEGIN:VCALENDAR
VERSION:2.0
PRODID:-//BrahmaKumaris Faridabad - ECPv4.9.3.2//NONSGML v1.0//EN
CALSCALE:GREGORIAN
METHOD:PUBLISH
X-WR-CALNAME:BrahmaKumaris Faridabad
X-ORIGINAL-URL:https://faridabad.bk.ooo
X-WR-CALDESC:Events for BrahmaKumaris Faridabad
BEGIN:VEVENT
DTSTART;TZID=UTC+0:20180527T053000
DTEND;TZID=UTC+0:20180527T080000
DTSTAMP:20260422T021526
CREATED:20180525T225020Z
LAST-MODIFIED:20180525T225233Z
UID:1655-1527399000-1527408000@faridabad.bk.ooo
SUMMARY:Sangathit Yog and Meditation Program\, Gopal Vatika\, Sec-88\, Greater Faridabad\, 27-05-2018\, 5:30am
DESCRIPTION:
URL:https://faridabad.bk.ooo/event/sangathit-yog-and-meditation-program-gopal-vatika-sec-88-greater-faridabad-27-05-2018-530am/
LOCATION:Gopal Vatika\, Near RPS-SRS-Chowk\, Sec-88\, Nehar Paar\, Greater Faridabad\, Haryana\, India
END:VEVENT
END:VCALENDAR