BEGIN:VCALENDAR
VERSION:2.0
PRODID:-//BrahmaKumaris Faridabad - ECPv4.9.3.2//NONSGML v1.0//EN
CALSCALE:GREGORIAN
METHOD:PUBLISH
X-WR-CALNAME:BrahmaKumaris Faridabad
X-ORIGINAL-URL:https://faridabad.bk.ooo
X-WR-CALDESC:Events for BrahmaKumaris Faridabad
BEGIN:VEVENT
DTSTART;TZID=UTC+0:20171119T060000
DTEND;TZID=UTC+0:20171119T083000
DTSTAMP:20260421T210625
CREATED:20171116T070607Z
LAST-MODIFIED:20171117T073637Z
UID:223-1511071200-1511080200@faridabad.bk.ooo
SUMMARY:Rajyoga Meditation
DESCRIPTION:6 to 6.30 am. – yog\n6.30 to 7am.  – murli\n7  to 8.30. –  Dr. Sachin ji class\n
URL:https://faridabad.bk.ooo/event/rajyoga-meditation-2/
LOCATION:Sec 2 Centre\, Raghuvir colony Sec 2 Centre\, Faridabad\, 121004\, India
END:VEVENT
END:VCALENDAR