BEGIN:VCALENDAR
VERSION:2.0
PRODID:-//BrahmaKumaris Faridabad - ECPv4.9.3.2//NONSGML v1.0//EN
CALSCALE:GREGORIAN
METHOD:PUBLISH
X-WR-CALNAME:BrahmaKumaris Faridabad
X-ORIGINAL-URL:https://faridabad.bk.ooo
X-WR-CALDESC:Events for BrahmaKumaris Faridabad
BEGIN:VEVENT
DTSTART;TZID=UTC+0:20180204T160000
DTEND;TZID=UTC+0:20180204T190000
DTSTAMP:20260422T000453
CREATED:20180204T014819Z
LAST-MODIFIED:20180204T014828Z
UID:460-1517760000-1517770800@faridabad.bk.ooo
SUMMARY:Public Function\, Shivratri celebration
DESCRIPTION:
URL:https://faridabad.bk.ooo/event/public-function-shivratri-celebration/
LOCATION:Bk Ramesh Bhai Ji\, Sector-81\, \, faridabad\, India
END:VEVENT
END:VCALENDAR