BEGIN:VCALENDAR
VERSION:2.0
PRODID:-//BrahmaKumaris Faridabad - ECPv4.9.3.2//NONSGML v1.0//EN
CALSCALE:GREGORIAN
METHOD:PUBLISH
X-WR-CALNAME:BrahmaKumaris Faridabad
X-ORIGINAL-URL:https://faridabad.bk.ooo
X-WR-CALDESC:Events for BrahmaKumaris Faridabad
BEGIN:VEVENT
DTSTART;TZID=UTC+0:20180208T060000
DTEND;TZID=UTC+0:20180208T080000
DTSTAMP:20260422T063906
CREATED:20180205T051027Z
LAST-MODIFIED:20180206T051602Z
UID:492-1518069600-1518076800@faridabad.bk.ooo
SUMMARY:Program Morning Class
DESCRIPTION:All Bk brothers and sisters are cordially invited for the Morning class \n
URL:https://faridabad.bk.ooo/event/program-morning-class/
LOCATION:Sector 16\,\, House No. 487\, Faridabad\, Haryana\, India
END:VEVENT
END:VCALENDAR