BEGIN:VCALENDAR
VERSION:2.0
PRODID:-//BrahmaKumaris Faridabad - ECPv4.9.3.2//NONSGML v1.0//EN
CALSCALE:GREGORIAN
METHOD:PUBLISH
X-WR-CALNAME:BrahmaKumaris Faridabad
X-ORIGINAL-URL:https://faridabad.bk.ooo
X-WR-CALDESC:Events for BrahmaKumaris Faridabad
BEGIN:VEVENT
DTSTART;TZID=UTC+0:20180207T053000
DTEND;TZID=UTC+0:20180207T073000
DTSTAMP:20260422T052225
CREATED:20180206T230805Z
LAST-MODIFIED:20180206T230900Z
UID:520-1517981400-1517988600@faridabad.bk.ooo
SUMMARY:Prabhat Phery
DESCRIPTION:The morning class is Scheduled from 5:45 am to 6:30 am. \nAnd then\, The program of Prabhat Phery is organized from 6:30 am to 7:30 am at Sanatan Dharam Mandir\, Sector 9\, \n
URL:https://faridabad.bk.ooo/event/prabhat-phery/
LOCATION:Sanatan Dharam Mandir\, Sector 9\, Faridabad\, Haryana\, 121006\, India
END:VEVENT
END:VCALENDAR