BEGIN:VCALENDAR
VERSION:2.0
PRODID:-//BrahmaKumaris Faridabad - ECPv4.9.3.2//NONSGML v1.0//EN
CALSCALE:GREGORIAN
METHOD:PUBLISH
X-WR-CALNAME:BrahmaKumaris Faridabad
X-ORIGINAL-URL:https://faridabad.bk.ooo
X-WR-CALDESC:Events for BrahmaKumaris Faridabad
BEGIN:VEVENT
DTSTART;TZID=UTC+0:20180204T060000
DTEND;TZID=UTC+0:20180204T080000
DTSTAMP:20260421T223501
CREATED:20180204T014112Z
LAST-MODIFIED:20180205T044531Z
UID:457-1517724000-1517731200@faridabad.bk.ooo
SUMMARY:Prabhat Phery Program
DESCRIPTION:MahaShivRatri \n
URL:https://faridabad.bk.ooo/event/prabhat-phery-program/
LOCATION:NH-5\, House. no 5L/4\, Faridabad\, haryana\, 121006\, India
END:VEVENT
END:VCALENDAR