BEGIN:VCALENDAR
VERSION:2.0
PRODID:-//BrahmaKumaris Faridabad - ECPv4.9.3.2//NONSGML v1.0//EN
CALSCALE:GREGORIAN
METHOD:PUBLISH
X-WR-CALNAME:BrahmaKumaris Faridabad
X-ORIGINAL-URL:https://faridabad.bk.ooo
X-WR-CALDESC:Events for BrahmaKumaris Faridabad
BEGIN:VEVENT
DTSTART;TZID=UTC+0:20180205T060000
DTEND;TZID=UTC+0:20180205T090000
DTSTAMP:20260422T013916
CREATED:20180204T041400Z
LAST-MODIFIED:20180206T051347Z
UID:466-1517810400-1517821200@faridabad.bk.ooo
SUMMARY:Prabhat Phery program
DESCRIPTION:On the occasion of Shiv Jayanti\, prabhat phery program is scheduled.  All Bk Brothers and sisters are invited to attend the same. \n
URL:https://faridabad.bk.ooo/event/prabhat-phery-program-2/
LOCATION:Bk Rajesh Behn ji\, H. no. 6255\, sector 23\, \, Gali no. 29\, sanjay colony\, 33 feet road\, India
END:VEVENT
END:VCALENDAR