BEGIN:VCALENDAR
VERSION:2.0
PRODID:-//BrahmaKumaris Faridabad - ECPv4.9.3.2//NONSGML v1.0//EN
CALSCALE:GREGORIAN
METHOD:PUBLISH
X-WR-CALNAME:BrahmaKumaris Faridabad
X-ORIGINAL-URL:https://faridabad.bk.ooo
X-WR-CALDESC:Events for BrahmaKumaris Faridabad
BEGIN:VEVENT
DTSTART;TZID=UTC+0:20180208T053000
DTEND;TZID=UTC+0:20180208T073000
DTSTAMP:20260422T052642
CREATED:20180206T231924Z
LAST-MODIFIED:20180206T231958Z
UID:524-1518067800-1518075000@faridabad.bk.ooo
SUMMARY:Prabhat Phery
DESCRIPTION:The Morning Murli Class is scheduled from 5:45 am upto 6:30 am. and then the Prabhat Phery program would take place from 6:30 am uptill 7:30 am. \n
URL:https://faridabad.bk.ooo/event/prabhat-phery-2/
LOCATION:House No. 2372/9\, near DC Model School\, Sector 9\, Faridabad\, Harayana\, 121006\, India
END:VEVENT
END:VCALENDAR