BEGIN:VCALENDAR
VERSION:2.0
PRODID:-//BrahmaKumaris Faridabad - ECPv4.9.3.2//NONSGML v1.0//EN
CALSCALE:GREGORIAN
METHOD:PUBLISH
X-WR-CALNAME:BrahmaKumaris Faridabad
X-ORIGINAL-URL:https://faridabad.bk.ooo
X-WR-CALDESC:Events for BrahmaKumaris Faridabad
BEGIN:VEVENT
DTSTART;TZID=UTC+0:20180819T160000
DTEND;TZID=UTC+0:20180819T190000
DTSTAMP:20260421T215613
CREATED:20180827T051504Z
LAST-MODIFIED:20180827T051915Z
UID:2024-1534694400-1534705200@faridabad.bk.ooo
SUMMARY:Natural Life style – Free Health Awareness Session\, 19th Aug’2018
DESCRIPTION: \n
URL:https://faridabad.bk.ooo/event/natural-life-style-free-health-awareness-session-19th-aug2018/
LOCATION:Brahma Kumaris Center\, Sec 46\, Faridabad\, H. No. 493\, Sec 46\, near Eicher School\, Faridabad\, Haryana\, 121006\, India
ORGANIZER;CN="Bk%20Madhu%20Didi%20Ji":MAILTO:manisha.vashisht@gmail.com
END:VEVENT
END:VCALENDAR