BEGIN:VCALENDAR
VERSION:2.0
PRODID:-//BrahmaKumaris Faridabad - ECPv4.9.3.2//NONSGML v1.0//EN
CALSCALE:GREGORIAN
METHOD:PUBLISH
X-WR-CALNAME:BrahmaKumaris Faridabad
X-ORIGINAL-URL:https://faridabad.bk.ooo
X-WR-CALDESC:Events for BrahmaKumaris Faridabad
BEGIN:VEVENT
DTSTART;TZID=UTC+0:20180213T103000
DTEND;TZID=UTC+0:20180213T130000
DTSTAMP:20260422T120626
CREATED:20180213T072320Z
LAST-MODIFIED:20180213T072344Z
UID:627-1518517800-1518526800@faridabad.bk.ooo
SUMMARY:MahaShivratri Shanti Yatra\, Raghuvir Colony\, 13th Feb\, 10:30 am
DESCRIPTION:Celebrating Supreme God Father’s 82nd Birth Anniversary\, The MahaShivratri Program\, at Raghuvir Colony\, Ballabgarh\, 13th Feb 2018\, 10:30am \n  \n
URL:https://faridabad.bk.ooo/event/mahashivratri-shanti-yatra-raghuvir-colony-13th-feb-1030-am/
LOCATION:Rajyoga Meditation Centre\, Raghuvir Colony\, Sector-2\, Ballabgarh\, Haryana\, 121004\, India
END:VEVENT
END:VCALENDAR