BEGIN:VCALENDAR
VERSION:2.0
PRODID:-//BrahmaKumaris Faridabad - ECPv4.9.3.2//NONSGML v1.0//EN
CALSCALE:GREGORIAN
METHOD:PUBLISH
X-WR-CALNAME:BrahmaKumaris Faridabad
X-ORIGINAL-URL:https://faridabad.bk.ooo
X-WR-CALDESC:Events for BrahmaKumaris Faridabad
BEGIN:VEVENT
DTSTART;TZID=UTC+0:20171119T140000
DTEND;TZID=UTC+0:20171119T180000
DTSTAMP:20260421T210249
CREATED:20171116T062910Z
LAST-MODIFIED:20171117T073502Z
UID:221-1511100000-1511114400@faridabad.bk.ooo
SUMMARY:Kumars' Medaitation
DESCRIPTION:Department :  Kumars’ Bhatti\nSession : Evening \nTopic :  \n\nClass 1 : कुमार जीवन की गृहस्थी\nClass 2 : कुमार जीवन की नींव- सम्पूर्ण ब्रह्मचर्य\nClass 4 : Spiritual Activity\n\n
URL:https://faridabad.bk.ooo/event/kumars-medaitation/
LOCATION:Sec 2 Centre\, Raghuvir colony Sec 2 Centre\, Faridabad\, 121004\, India
END:VEVENT
END:VCALENDAR