BEGIN:VCALENDAR
VERSION:2.0
PRODID:-//BrahmaKumaris Faridabad - ECPv4.9.3.2//NONSGML v1.0//EN
CALSCALE:GREGORIAN
METHOD:PUBLISH
X-WR-CALNAME:BrahmaKumaris Faridabad
X-ORIGINAL-URL:https://faridabad.bk.ooo
X-WR-CALDESC:Events for BrahmaKumaris Faridabad
BEGIN:VEVENT
DTSTART;TZID=UTC+0:20180211T150000
DTEND;TZID=UTC+0:20180211T190000
DTSTAMP:20260422T063739
CREATED:20180209T075322Z
LAST-MODIFIED:20180209T075413Z
UID:555-1518361200-1518375600@faridabad.bk.ooo
SUMMARY:Godly Invitation
DESCRIPTION:Celebrating the 82nd Trimurti Shiv Jayanti Festival\, on 11th Feb 2018 \n  \n
URL:https://faridabad.bk.ooo/event/godly-invitation/
LOCATION:PrajaPita Brahmakumaris Ishwariya Vishwavidyalaya\, H. No. 493\, Sector 46\, Near Eicher School. Huda market\, Faridabad\, Haryana\, 121006\, India
ATTACH;FMTTYPE=image/jpeg:https://faridabad.bk.ooo/wp-content/uploads/sites/219/2018/02/IMG-20180209-WA0008.jpg
END:VEVENT
END:VCALENDAR