BEGIN:VCALENDAR
VERSION:2.0
PRODID:-//BrahmaKumaris Faridabad - ECPv4.9.3.2//NONSGML v1.0//EN
CALSCALE:GREGORIAN
METHOD:PUBLISH
X-WR-CALNAME:BrahmaKumaris Faridabad
X-ORIGINAL-URL:https://faridabad.bk.ooo
X-WR-CALDESC:Events for BrahmaKumaris Faridabad
BEGIN:VEVENT
DTSTART;TZID=UTC+0:20181021T050000
DTEND;TZID=UTC+0:20181021T200000
DTSTAMP:20260421T233528
CREATED:20181015T232025Z
LAST-MODIFIED:20181020T160331Z
UID:2534-1540098000-1540152000@faridabad.bk.ooo
SUMMARY:Godly Invitation - Sangathit Yog Bhatti\, 21/10/2018\, Sunday\, 5:00 am\, Classic Elegance Banquet Hall\, NIT\, Faridabad
DESCRIPTION: \n
URL:https://faridabad.bk.ooo/event/godly-invitation-sangathit-yog-bhatti-21-10-2018-500-am-classic-elegance-banquet-hall-nit-faridabad/
LOCATION:Classic Elegance Banquet Hall\, 34/4\, Bata Hardware Road\, Classic Elegance Banquet Hall\, 34/4\, Bata Hardware Road\, NIT\, Faridabad\, Haryana\, India
ATTACH;FMTTYPE=image/jpeg:https://faridabad.bk.ooo/wp-content/uploads/sites/219/2018/08/WhatsApp-Image-2018-08-19-at-10.19.21-AM.jpg
END:VEVENT
END:VCALENDAR