BEGIN:VCALENDAR
VERSION:2.0
PRODID:-//BrahmaKumaris Faridabad - ECPv4.9.3.2//NONSGML v1.0//EN
CALSCALE:GREGORIAN
METHOD:PUBLISH
X-WR-CALNAME:BrahmaKumaris Faridabad
X-ORIGINAL-URL:https://faridabad.bk.ooo
X-WR-CALDESC:Events for BrahmaKumaris Faridabad
BEGIN:VEVENT
DTSTART;TZID=UTC+0:20181019T160000
DTEND;TZID=UTC+0:20181019T200000
DTSTAMP:20260421T232800
CREATED:20181018T235247Z
LAST-MODIFIED:20181018T235959Z
UID:2548-1539964800-1539979200@faridabad.bk.ooo
SUMMARY:Faridabad\, Sec 46 - Godly Invitation\, Cultural Program on the occasion of Dussehra\, Community Center\, Sec -46\, 4:00pm
DESCRIPTION: \n
URL:https://faridabad.bk.ooo/event/faridabad-sec-46-godly-invitation-cultural-program-on-the-occasion-of-dussehra-community-center-sec-46-400pm/
LOCATION:Community Center\, Sec-46\, Faridabad\, Sector 46\, Faridabad\, Haryana\, 121006\, India
ATTACH;FMTTYPE=image/jpeg:https://faridabad.bk.ooo/wp-content/uploads/sites/219/2018/10/WhatsApp-Image-2018-10-18-at-11.16.56-AM.jpeg
END:VEVENT
END:VCALENDAR