BEGIN:VCALENDAR
VERSION:2.0
PRODID:-//BrahmaKumaris Faridabad - ECPv4.9.3.2//NONSGML v1.0//EN
CALSCALE:GREGORIAN
METHOD:PUBLISH
X-WR-CALNAME:BrahmaKumaris Faridabad
X-ORIGINAL-URL:https://faridabad.bk.ooo
X-WR-CALDESC:Events for BrahmaKumaris Faridabad
BEGIN:VEVENT
DTSTART;TZID=UTC+0:20171119T090000
DTEND;TZID=UTC+0:20171119T120000
DTSTAMP:20260421T223756
CREATED:20171116T061329Z
LAST-MODIFIED:20171117T073356Z
UID:218-1511082000-1511092800@faridabad.bk.ooo
SUMMARY:Combined Meditation
DESCRIPTION:Department :  Teachers’ Bhatti\nSession : Morning \nTopic : Combined Amritvela \n\nClass 1 : Personal Experience\nClass 2 : Ideal yogi experimental life Or Sunday AM Revision\nClass 3 : The key of atonement pleasure Or Divine Commandments\nClass 4 : Spiritual Activity\n\n
URL:https://faridabad.bk.ooo/event/combined-meditation/
LOCATION:Sec 2 Centre\, Raghuvir colony Sec 2 Centre\, Faridabad\, 121004\, India
END:VEVENT
END:VCALENDAR